BEGIN:VCALENDAR
VERSION:2.0
PRODID:-//German Water Partnership
 //NONSGML Events //EN
CALSCALE:GREGORIAN
X-WR-CALNAME:German Water Partnership
BEGIN:VEVENT
CREATED:20200430T091242Z
UID:13879
DTEND;VALUE=DATE:20200604T090000Z
DTSTART;VALUE=DATE:20200604T080000Z
DTSTAMP:20260421T093017Z
LOCATION:
DESCRIPTION:Wir kommen dem Wunsch vieler Mitglieder nach, sich gerade in Krisenzei
SUMMARY:Online-Update: Corona Crisis Malaysia
ORGANIZER:German Water Partnership
URL;VALUE=URI:https://germanwaterpartnership.de/eventmanager/online-update-corona-crisis-malaysia/
TRANSP:OPAQUE
BEGIN:VALARM
ACTION:DISPLAY
TRIGGER;VALUE=DATE-TIME:20260421T113017Z
DESCRIPTION:Reminder for Online-Update: Corona Crisis Malaysia
END:VALARM
END:VEVENT
END:VCALENDAR