BEGIN:VCALENDAR
VERSION:2.0
PRODID:-//German Water Partnership
 //NONSGML Events //EN
CALSCALE:GREGORIAN
X-WR-CALNAME:German Water Partnership
BEGIN:VEVENT
CREATED:20200102T143111Z
UID:10527
DTEND;VALUE=DATE:20200626T093000Z
DTSTART;VALUE=DATE:20200626T080000Z
DTSTAMP:20260421T093218Z
LOCATION:
DESCRIPTION:Die 3. Sitzung des Arbeitskreises Landwirtschaftliche Bewässerung fin
SUMMARY:Working Group Agricultural Irrigation: 3rd session
ORGANIZER:German Water Partnership
URL;VALUE=URI:https://germanwaterpartnership.de/eventmanager/10527/
TRANSP:OPAQUE
BEGIN:VALARM
ACTION:DISPLAY
TRIGGER;VALUE=DATE-TIME:20260421T113218Z
DESCRIPTION:Reminder for Working Group Agricultural Irrigation: 3rd session
END:VALARM
END:VEVENT
END:VCALENDAR